BEGIN:VCALENDAR
VERSION:2.0
PRODID:-//Light House Training and Consultancy (LHTC) - ECPv6.15.20//NONSGML v1.0//EN
CALSCALE:GREGORIAN
METHOD:PUBLISH
X-WR-CALNAME:Light House Training and Consultancy (LHTC)
X-ORIGINAL-URL:https://lighthouse-tc.com
X-WR-CALDESC:Events for Light House Training and Consultancy (LHTC)
REFRESH-INTERVAL;VALUE=DURATION:PT1H
X-Robots-Tag:noindex
X-PUBLISHED-TTL:PT1H
BEGIN:VTIMEZONE
TZID:Africa/Cairo
BEGIN:STANDARD
TZOFFSETFROM:+0200
TZOFFSETTO:+0200
TZNAME:EET
DTSTART:20180101T000000
END:STANDARD
END:VTIMEZONE
BEGIN:VEVENT
DTSTART;TZID=Africa/Cairo:20211118T100000
DTEND;TZID=Africa/Cairo:20211118T140000
DTSTAMP:20260421T062442
CREATED:20181206T110648Z
LAST-MODIFIED:20210805T121919Z
UID:750-1637229600-1637244000@lighthouse-tc.com
SUMMARY:Stress Management Strategies (Virtual)
DESCRIPTION:Stress Management Strategies\n(One Day Virtual workshop) \nOverview: \nInterested in improving your stress management skills and understanding why this soft skill is so important for your career advancement? We cover it all. \nSTRESS CAUSES MORE STRESS !!! \n\nHow does stress negatively impact your life    today\, tomorrow\, 10-20 years?\nAcute & Chronic Stressors.\nActivation of the Stress Response.\n\n  \nTraining contents: \n\nWhen stress gets in the way\n\n\nPhysiological Response to Stress\nIdentify the stressors\nTaking Action\nStress Management practices\nThe Ultimate Stress Resolutions\n Local Resources
URL:https://lighthouse-tc.com/event/stress-management-strategies/
CATEGORIES:Soft Skills
ATTACH;FMTTYPE=image/jpeg:https://lighthouse-tc.com/wp-content/uploads/2019/04/Stress_Management_Strategies1200x800.jpg
END:VEVENT
BEGIN:VEVENT
DTSTART;TZID=Africa/Cairo:20210908T100000
DTEND;TZID=Africa/Cairo:20210909T160000
DTSTAMP:20260421T062442
CREATED:20181206T113606Z
LAST-MODIFIED:20210706T095026Z
UID:774-1631095200-1631203200@lighthouse-tc.com
SUMMARY:Conflict Resolution Management
DESCRIPTION:Conflict Resolution Management\n\n2 Days Training Workshop \nSep. 8\, 9 \n\n\n\n\n\n\n\nWorkshop Overview: \nConflict is an inevitable part of our lives but how we view it and how we deal with it can turn it from being an unpleasant experience into one where we learn and grow. \nThis workshop will help participants to understand how conflict can be positive and will introduce tools and techniques that will assist to effectively deal with conflict situations. \nThe aim of conflict management training is to introduce practical conflict resolution techniques and strategies that managers and team leaders can effectively utilize when managing conflict in the workplace. \n\n\n\n\n\n\nWorkshop Outlines: \n\nUnderstanding Conflict\n\nUnderstanding causes of conflicts\nDefining workplace conflict\n\n\nSkills Necessary to resolve Conflicts:\n\nActive listening\nEffective questioning\nRapport building\nAssertive behavior\nEffective promising\n\n\nConflict management Resolution Process\n\nIdentify and clearly define the real problem.\nBrainstorm solutions.\nEvaluate the solutions.\nChoose the best solution.\nImplement the chosen solution.\nChoose a follow up date to evaluate.\n\n\nSolution Building and Finding Common Ground\n\nCreate an effective atmosphere\nSeparate the person from the problem\nCreate mutual understanding\nUse objective criteria for evaluation\nGenerate options\n\n\nConflict Resolution using the Thomas-Kilmann Instrument\n\nCollaboration/Competition/Compromise/Accommodating/Avoidance\n\n\nTurn complaint into compliment\n\n\n\n\n\n\n\nDate : 8\, 9 Sep. 2021 \nTime : 10:00 AM – 04:00 PM \nLocation : Hotel
URL:https://lighthouse-tc.com/event/conflict-resolution-management/
CATEGORIES:Managerial and Leadership,Soft Skills
ATTACH;FMTTYPE=image/jpeg:https://lighthouse-tc.com/wp-content/uploads/2021/07/ffi-feature-05-16.jpg
END:VEVENT
BEGIN:VEVENT
DTSTART;TZID=Africa/Cairo:20210829T100000
DTEND;TZID=Africa/Cairo:20210830T160000
DTSTAMP:20260421T062442
CREATED:20181205T132909Z
LAST-MODIFIED:20210630T125541Z
UID:730-1630231200-1630339200@lighthouse-tc.com
SUMMARY:Social and Emotional Intelligence
DESCRIPTION:Social and Emotional Intelligence  \n(2 Days workshop) \nOverview and Objectives \nEmotional Intelligence (EI) is a must  in attaining success in our lives and careers \nEmotional Intelligence is the ability to: \n\nRecognizing  your own emotions will enable you to manage your responses.\nunderstanding the emotions of others will help you  respect them and to build healthy relationships with them.\n\nIn practical terms\, this means being aware that emotions can drive our behavior and impact people (positively and negatively)\, and learning how to manage those emotions \n  \nTraining Contents: \n\nIntroduction\nMultiple Intelligence\nEmotional Intelligence Defined\nOptimism Vs. Pessimism\nValidating Emotions in Others\nEmotions & Plutchik’s Wheel\nPrinciples Vs. Values\nConsidering your strengths and talents\nEQ in terms of Relationships\nCommunicating with Power\nNon‐Verbal Communication Skills\nBody Language\n\nThe Signals You Send to Others\nIt’s Not What You Say\, It’s How You Say It\n\n\nThe Four Levels of Conversation\nThe power of Feedback\nUsing Summary Questions\nCreating a Powerful Introduction\nInfluencing Skills\nSeeing the Other Side\nBuilding a Bridge\nGiving In Without Giving Up\nSharing Your Opinion\nBuilding Consensus\nMaking an Impact\nCreating a Powerful First Impression\nAssessing a Situation\nBeing assertive without Being Offensive
URL:https://lighthouse-tc.com/event/social-and-emotional-intelligence/
CATEGORIES:Soft Skills
ATTACH;FMTTYPE=image/jpeg:https://lighthouse-tc.com/wp-content/uploads/2019/03/social-emotional-intelligence-2.jpg
END:VEVENT
BEGIN:VEVENT
DTSTART;TZID=Africa/Cairo:20200401T100000
DTEND;TZID=Africa/Cairo:20200402T160000
DTSTAMP:20260421T062442
CREATED:20181206T112408Z
LAST-MODIFIED:20200216T084622Z
UID:763-1585735200-1585843200@lighthouse-tc.com
SUMMARY:Business Communication
DESCRIPTION:Business Communication \n(Two Days workshop) \nWorkshop Overview: \nCommunication is the base for human relation and cornerstone for other soft skills. \nBeing part of a business\, it is important that you communicate clearly and effectively to maintain a good relationship and do business smoothly and successfully with others (managers\, peers\, clients\, vendors\, etc.) \nWorkshop Objectives \n\nParticipants will learn how to communicate effectively\nImportance of positive communication\nBuilding positive relation\nBusiness Etiquette\n\nTraining Contents: \n\nWhat is Communication?\nImportance of Communication\nCommunication Elements and Process\nArt of Communication\nCommunication Barriers (Obstacles)\nSeven Elements for Succeed in Communication\nActive Listening skills and Positive Feedback\nTypes of people
URL:https://lighthouse-tc.com/event/business-communication/
CATEGORIES:Soft Skills
ORGANIZER;CN="Light House Training and Consultancy (LHTC)":MAILTO:info@lighthouse-tc.com
END:VEVENT
BEGIN:VEVENT
DTSTART;TZID=Africa/Cairo:20200209T100000
DTEND;TZID=Africa/Cairo:20200210T160000
DTSTAMP:20260421T062442
CREATED:20181205T110030Z
LAST-MODIFIED:20191215T081504Z
UID:721-1581242400-1581350400@lighthouse-tc.com
SUMMARY:Professional Business Writing
DESCRIPTION:Professional Business Writing \n(2 days training workshop) \nWorkshop Summary and Objectives: \nEffective business writing skills can help you win that million dollar contract\, earn a promotion\, resolve a dispute\, or generate a significant increase in new business leads. Poor business writing\, on the other hand\, can never be undone; it can cause you to lose business to your competition and could even cost you your job. \nWorkshop Content: \n\nWhy business writing?\nWriting from scratch\nThe Writing Process\nTactics You Should be Aware of\nPolishing the Words\nWriting Business\nE-mail\, Letters\, Memos and Faxes
URL:https://lighthouse-tc.com/event/business-writing/
CATEGORIES:Soft Skills
ORGANIZER;CN="Light House Training and Consultancy (LHTC)":MAILTO:info@lighthouse-tc.com
END:VEVENT
BEGIN:VEVENT
DTSTART;TZID=Africa/Cairo:20191124T100000
DTEND;TZID=Africa/Cairo:20191125T160000
DTSTAMP:20260421T062442
CREATED:20181206T113009Z
LAST-MODIFIED:20190225T092740Z
UID:769-1574589600-1574697600@lighthouse-tc.com
SUMMARY:Professional Business Writing
DESCRIPTION:Professional Business Writing\n(2 days training workshop) \nWorkshop Summary and Objectives: \nThe Business Writing workshop will teach participants the techniques and standards of business writing as an important means of communication. This workshop is focused on introducing tactics\, developing writing skills\, avoiding common mistakes and using standard expressions in formal writing. \nWorkshop Content: \n Why business writing?\n\nWriting from scratch\nThe Writing Process:\n\nGetting started- prewriting techniques & strategies\nDrafting- the first version\nEditing and proofreading- the second version\nLogic edit\n\nLayout\nGrammar\n\n\nPostwriting- the final version\n\n\nTactics You Should be Aware of:\n\nFormal VS Informal Writing\nBritish VS American English\n\n\nGrammar and Punctuation for Business Writing:(brief)\nPolishing the Words\nWriting Business\nE-mail\, Letters\, Memos and Faxes
URL:https://lighthouse-tc.com/event/professional-business-writing-3/
CATEGORIES:Soft Skills
END:VEVENT
BEGIN:VEVENT
DTSTART;TZID=Africa/Cairo:20191030T100000
DTEND;TZID=Africa/Cairo:20191031T160000
DTSTAMP:20260421T062442
CREATED:20181206T112459Z
LAST-MODIFIED:20191007T092635Z
UID:764-1572429600-1572537600@lighthouse-tc.com
SUMMARY:Effective Presentation Skills
DESCRIPTION:Effective Presentation Skills \n (2 Days workshop) \nObjectives: \nThe presentation skills workshop seeks to equip trainees with one of the most important communication skills. \nThis workshop is focused on building professional presentation and influential presenters. \nWorkshop Content: \n  \nDeciding to make a presentation \n\nThink before you speak (Audience Information – Purpose – Personal & Company perspective– Approach and types of presentations)\n\nPreparing your presentation \n\nResearch your presentation\nCreate an outline\nWriting out a draft\nPretest your presentation\nThe use of visual aids\n\nDelivering your presentation \nd. Make your presentation \n\nDelivery options\nEye contact\nGestures\nBody language\nAspects of sound – The voice\n\ne. Be prepared for anything \n\nCommandments of positive relation ship\nTypes of difficult audience\n\nf. Handling Qs & As \nFeedback
URL:https://lighthouse-tc.com/event/effective-presentation-skills/
LOCATION:Triumph Hotel\, Triumph Hotel\, Mansheya El-Bakry\, Heliopolis\, Cairo\, Egypt
CATEGORIES:Sales, Marketing and Customer Service,Soft Skills
END:VEVENT
BEGIN:VEVENT
DTSTART;TZID=Africa/Cairo:20190929T100000
DTEND;TZID=Africa/Cairo:20190930T160000
DTSTAMP:20260421T062442
CREATED:20181206T111936Z
LAST-MODIFIED:20200521T135743Z
UID:759-1569751200-1569859200@lighthouse-tc.com
SUMMARY:Leading Change Management
DESCRIPTION:Change Management\n\n2 Hours Training Workshop \nJune 29 \n\n\n\n\n\n\n\nOverview: \nChange should be embraced and used for the growth of any organization. Many change management gurus have focused on soft issues\, such as culture\, leadership\, and motivation. Such elements are important for success\, but managing these aspects alone isn’t sufficient to implement transformation projects. Soft factors don’t directly influence the outcomes of many change programs. An organization that plans and prepares for change is better able to overcome these challenges. \nChange Management workshop concentrate on planning\, preparation and implementation stages of a change to allow organizations to grow steadily in spite of constant changes caused by both internal and external forces. Participants will be able to : \n\nUnderstand Change\nDescribe how to implement a Change Program\nIdentify and overcome Obstacles to Change\nUsing the knowledge gained\, and contributing in effective change in their organization\nUnderstand the impact of change in the organization\nUnderstand the requirement for a sound change process within the organization\n\n\n\n\n\n\n\nTraining Content:\n\nLearn how to reduce resistance to change\nDefine the Organizational accountability culture and impact of behaviors and values in a change management project\nExplore Accountability culture and OD techniques\nExplore the 3 steps Change Model of Lewin\nImportance of Creativity and Innovation in a change context\nReview the causes and symptoms of stress\nLearn about effective change management strategies\nUnderstand and recognize individual motivators for change and how to use them\nGain skills required to lead a change project\, celebrating a successful change and sharing the benefits and results with all staff\nMaster strategies to align people with change\, appealing to emotions and facts\nLearn how to reduce resistance to change\n\n\n\n\n\n\n\nDate: June 29\, 2020 \nDuration: 2 Hours workshop \nTime: \nPlatform: zoom
URL:https://lighthouse-tc.com/event/leading-change-management/
CATEGORIES:Soft Skills
ATTACH;FMTTYPE=image/jpeg:https://lighthouse-tc.com/wp-content/uploads/2019/05/Leading-Change-Management_1024x683.jpg
END:VEVENT
BEGIN:VEVENT
DTSTART;TZID=Africa/Cairo:20190929T100000
DTEND;TZID=Africa/Cairo:20190930T160000
DTSTAMP:20260421T062442
CREATED:20181205T134256Z
LAST-MODIFIED:20191007T092114Z
UID:745-1569751200-1569859200@lighthouse-tc.com
SUMMARY:Business Communication and Etiquette
DESCRIPTION:Business Communication and Etiquette \n(Two Days workshop) \nWorkshop Objectives \n\nParticipants will learn how to communicate effectively\nImportance of positive communication\nBuilding positive relation\nBusiness Etiquette\n\nTraining Contents: \n\nWhat is Communication?\nImportance of Communication\nCommunication Elements and Process\nArt of Communication\nCommunication Barriers (Obstacles)\nSeven Elements for Succeed in Communication\nActive Listening skills and Positive Feedback\nTypes of people\nMyths of Communication\nCommunication Model\nLearn what your non-verbal messages are telling others\nRoadblocks\nQuestioning Techniques\nTips for Effective Communication\nWays to Build Positive Relationships\nForms of Communication\nBusiness Etiquette
URL:https://lighthouse-tc.com/event/business-communication-and-etiquette-2/
LOCATION:Triumph Hotel\, Triumph Hotel\, Mansheya El-Bakry\, Heliopolis\, Cairo\, Egypt
CATEGORIES:Soft Skills
END:VEVENT
BEGIN:VEVENT
DTSTART;TZID=Africa/Cairo:20190909T100000
DTEND;TZID=Africa/Cairo:20190910T160000
DTSTAMP:20260421T062442
CREATED:20181206T111537Z
LAST-MODIFIED:20191007T091212Z
UID:755-1568023200-1568131200@lighthouse-tc.com
SUMMARY:Emotional Intelligence
DESCRIPTION:Emotional Intelligence  \n(2 Days workshop) \nOverview Objectives: \nEmotional Intelligence (EI) is a must  in attaining success in our lives and careers \nEmotional Intelligence is the ability to: \n\nRecognizing  your own emotions will enable you to manage your responses.\nunderstanding the emotions of others will help you  respect them and to build healthy relationships with them.\n\nIn practical terms\, this means being aware that emotions can drive our behavior and impact people (positively and negatively)\, and learning how to manage those emotions \n  \nTraining Content:  \n\nIntroduction\nMultiple Intelligence\nOptimism Vs. Pessimism\nValidating Emotions in Others\nEmotions & Plutchik’s Wheel\nPrinciples Vs. Values\nConsidering your strengths and talents\nEQ in terms of Relationships\nCommunicating with Power\nThe Signals You Send to Others\nThe Four Levels of Conversation\nThe power of Feedback\nInfluencing Skills\nSeeing the Other Side\nBuilding a Bridge\nGiving In Without Giving Up\nBuilding Consensus\nMaking an Impact\nAssessing a Situation\nBeing assertive without Being Offensive
URL:https://lighthouse-tc.com/event/emotional-intelligence/
LOCATION:Triumph Hotel\, Triumph Hotel\, Mansheya El-Bakry\, Heliopolis\, Cairo\, Egypt
CATEGORIES:Soft Skills
END:VEVENT
BEGIN:VEVENT
DTSTART;TZID=Africa/Cairo:20190827T100000
DTEND;TZID=Africa/Cairo:20190827T160000
DTSTAMP:20260421T062442
CREATED:20181206T111401Z
LAST-MODIFIED:20190225T092741Z
UID:754-1566900000-1566921600@lighthouse-tc.com
SUMMARY:Professional Business Writing
DESCRIPTION:Professional Business Writing \n(2 days training workshop) \nWorkshop Summary and Objectives: \nThe Business Writing workshop will teach participants the techniques and standards of business writing as an important means of communication. This workshop is focused on introducing tactics\, developing writing skills\, avoiding common mistakes and using standard expressions in formal writing. \nWorkshop Content: \n\n  Why business writing?\nWriting from scratch\nThe Writing Process:\n\nGetting started- prewriting techniques & strategies\nDrafting- the first version\nEditing and proofreading- the second version\nLogic edit\n\nLayout\nGrammar\n\n\nPostwriting- the final version\n\n\nTactics You Should be Aware of:\n\nFormal VS Informal Writing\nBritish VS American English\n\n\nGrammar and Punctuation for Business Writing:(brief)\nPolishing the Words\nWriting Business\nE-mail\, Letters\, Memos and Faxes
URL:https://lighthouse-tc.com/event/professional-business-writing-2/
CATEGORIES:Soft Skills
END:VEVENT
BEGIN:VEVENT
DTSTART;TZID=Africa/Cairo:20190527T100000
DTEND;TZID=Africa/Cairo:20190527T140000
DTSTAMP:20260421T062442
CREATED:20181205T134042Z
LAST-MODIFIED:20190424T092542Z
UID:742-1558951200-1558965600@lighthouse-tc.com
SUMMARY:Increasing Morale
DESCRIPTION:Increasing Morale \n5 Hours \nOverview and Objectives:  \nMorale and loyalty\, is that important? Yes\, because “satisfied employee results satisfied customer”. \nIn speed and competitive work environment\, good morale let employees feel satisfied and happy which help in serving others and do all the effort needed to get the job done at best. While lack of loyalty have negative impact in communication between individuals and their employer and result in decreasing productivity\, quality\, etc. \nSo\, morale and loyalty is one of the most important topics that companies need to invest in and increase among their employees. “People are the most important asset” for any company \nAt the end of this course\, Participant will be able to: \n\nDetermine the things that affect his/her morale positively and negatively.\nTake practical steps to maintain high morale in different situations.\nRaise the morale of those around him in both home and workplace.\nOvercome obstacles stand against loyalty to work and the surrounding community.\nTake new actions in his personal life\, family and working place.\nDevelop the spirit of belonging in the surrounding environment.\n\nTraining Contents:  \n\nYou are important\nMorale\n\nHow morale is affected.\nFilters and analyzes.\nPractical applications to deal with morale\n\n\nLoyalty:\n\nSources of Loyalty\nMy role\nTeam work concept and its effect on morale and loyalty\nCommon obstacles of loyalty and how to overcome.\nSimulation and Scenarios
URL:https://lighthouse-tc.com/event/increasing-morale/
CATEGORIES:Soft Skills
END:VEVENT
BEGIN:VEVENT
DTSTART;TZID=Africa/Cairo:20190513T100000
DTEND;TZID=Africa/Cairo:20190513T140000
DTSTAMP:20260421T062442
CREATED:20181205T133912Z
LAST-MODIFIED:20190401T141426Z
UID:740-1557741600-1557756000@lighthouse-tc.com
SUMMARY:Positive Thinking
DESCRIPTION:Positive Thinking\n5 Hours \nOverview and Objectives: \nIdeas and thoughts have the most important impact on people behavior. Ideas lead to good or bad behavior\, as well as good or bad performance. \nPositive thinking is one of the important topics. It let people know the fact and relation between thoughts\, feelings and behavior. This workshop will help participants to think and act positively in all areas of life. \nAttendees will learn how to reach their highest level of performance\, relations and satisfaction. \nWorkshop Contents: \n\nYou are a unique person and privileged\nPositive nutrition of the SOUL\n3 Circles\nSenses are the gates of SOUL\nThe Paper Ruler\nNegative words and communication\nHow to achieve positive thinking\nPositive Life
URL:https://lighthouse-tc.com/event/positive-thinknig/
CATEGORIES:Soft Skills
END:VEVENT
BEGIN:VEVENT
DTSTART;TZID=Africa/Cairo:20190509T100000
DTEND;TZID=Africa/Cairo:20190509T140000
DTSTAMP:20260421T062442
CREATED:20181205T133812Z
LAST-MODIFIED:20200330T125853Z
UID:739-1557396000-1557410400@lighthouse-tc.com
SUMMARY:Time management
DESCRIPTION:Time Management \nObjectives: \nTime Management is critical. \nConsidering the speed at which any business moves these days\, one thing is certain: failing in time management\, will impact in a hard managing anything else. \nYet most people waste precious minutes\, hours or even days reacting to what is going on around them. So\, it is important to develop skills that will keep people move forward and accomplish their most important goals. \n\nTraining Contents:\n\nTime wasters.\nOver and under estimation of time.\nClock and compass\nTime matrix.\nThe Three Ps (Planning\, Prioritizing\, and Performance).\nSMART goals.\nHow to make to do list?\nCircle of focus and circle of concern.\nHow to make a balanced life?\nTips and tricks to help you.
URL:https://lighthouse-tc.com/event/time-management/
CATEGORIES:Soft Skills
END:VEVENT
BEGIN:VEVENT
DTSTART;VALUE=DATE:20190406
DTEND;VALUE=DATE:20190408
DTSTAMP:20260421T062442
CREATED:20181205T133448Z
LAST-MODIFIED:20200923T115711Z
UID:735-1554508800-1554681599@lighthouse-tc.com
SUMMARY:Presentation Skills
DESCRIPTION:Effective Presentation Skills \n (2 Days workshop) \nOverview and Objectives: \nThe presentation skills workshop seeks to equip trainees with one of the most important communication skills. \nThis workshop is focused on building professional presentation and influential presenters. \nWorkshop Content: \n\nThink before you speak\nPreparing your presentation\nResearch your presentation\nCreate an outline\nWriting out a draft\nPretest your presentation\nThe use of visual aids\nDelivering your presentation\na. Make your presentation\nb. Be prepared for anything\nCommandments of positive relation ship\nTypes of difficult audience\nc. Handling Qs & As\nFeedback
URL:https://lighthouse-tc.com/event/presentation-skills/
CATEGORIES:Sales, Marketing and Customer Service,Soft Skills
END:VEVENT
BEGIN:VEVENT
DTSTART;TZID=Africa/Cairo:20190224T120000
DTEND;TZID=Africa/Cairo:20190225T180000
DTSTAMP:20260421T062442
CREATED:20181205T112039Z
LAST-MODIFIED:20190225T092849Z
UID:727-1551009600-1551117600@lighthouse-tc.com
SUMMARY:Networking and Business Relationship
DESCRIPTION:Networking and Business Relation \n(2 days training workshop) \nOverview: \nNetworking is about business relationship building and making yourself and your company attractive to people in a way they hadn’t realized before. It’s about developing your business. \nContents: \n\nIntroduction\, Networking – What gets in the way\nDynamics Communication\nAssumptions when Networking\nSee Business Networking through prospective clients eye\nMeeting and Greeting at a Business Networking Event\nApproaching complete strangers and introducing yourself\nSocializing: joining and leaving groups easily\nMaking a Good First Impression\nBusiness Networking ‘Etiquette’\nUse of Status when Networking\nWorking to your Networking Strengths: It’s You They ‘Buy’\n30 Second Influencer\nBusiness Networking Rehearsals\nPersonal Business Networking
URL:https://lighthouse-tc.com/event/networking-business-relationship/
CATEGORIES:Sales, Marketing and Customer Service,Soft Skills
END:VEVENT
BEGIN:VEVENT
DTSTART;TZID=Africa/Cairo:20190112T100000
DTEND;TZID=Africa/Cairo:20190112T160000
DTSTAMP:20260421T062442
CREATED:20181205T105344Z
LAST-MODIFIED:20200415T101934Z
UID:718-1547287200-1547308800@lighthouse-tc.com
SUMMARY:Communication Skills
DESCRIPTION:(One Day workshop) \nTraining Approach:\nMany organizations spend plenty of time and money on their employees to excel in communication\, Therefore it is important for an organization to have such a well mannered and having good employees with good communication skills and use these skills in achieving targets in the work place. Participants will learn:\n• How to get excellent communication skills\n• Body language in communication\n• Emphasize on how to better communicate in the work place with colleagues\, managers and clients \nWorkshop Outline  \n• Introduction\n• Non Verbal Communication\n• Interpreting Eye Movements\n• Body Language\n• Pragmatic Awareness\n• Effective Listening\n• Communication Styles ( Passive / Aggressive / Assertive)\n• Assertiveness Techniques ( Factual / Empathic /Consequent /Divergent/ Expressive / Responsive)\n• Barriers to Good Communication\n• Multiple Intelligence\n• What is conflict?\n• Actions that causes work place conflict\n• Ways to avoid conflict at work\n• Team communication using the” Johari Model”\n• Why Team Briefing & Feedback?
URL:https://lighthouse-tc.com/event/communication-skills/
LOCATION:Triumph Hotel\, Triumph Hotel\, Mansheya El-Bakry\, Heliopolis\, Cairo\, Egypt
CATEGORIES:Soft Skills
ORGANIZER;CN="Light House Training and Consultancy (LHTC)":MAILTO:info@lighthouse-tc.com
END:VEVENT
END:VCALENDAR